BEGIN:VCALENDAR
VERSION:2.0
PRODID:-//Scream Seeker - ECPv6.15.20//NONSGML v1.0//EN
CALSCALE:GREGORIAN
METHOD:PUBLISH
X-WR-CALNAME:Scream Seeker
X-ORIGINAL-URL:https://screamseeker.com
X-WR-CALDESC:Events for Scream Seeker
REFRESH-INTERVAL;VALUE=DURATION:PT1H
X-Robots-Tag:noindex
X-PUBLISHED-TTL:PT1H
BEGIN:VTIMEZONE
TZID:America/Kentucky/Louisville
BEGIN:DAYLIGHT
TZOFFSETFROM:-0500
TZOFFSETTO:-0400
TZNAME:EDT
DTSTART:20240310T070000
END:DAYLIGHT
BEGIN:STANDARD
TZOFFSETFROM:-0400
TZOFFSETTO:-0500
TZNAME:EST
DTSTART:20241103T060000
END:STANDARD
BEGIN:DAYLIGHT
TZOFFSETFROM:-0500
TZOFFSETTO:-0400
TZNAME:EDT
DTSTART:20250309T070000
END:DAYLIGHT
BEGIN:STANDARD
TZOFFSETFROM:-0400
TZOFFSETTO:-0500
TZNAME:EST
DTSTART:20251102T060000
END:STANDARD
BEGIN:DAYLIGHT
TZOFFSETFROM:-0500
TZOFFSETTO:-0400
TZNAME:EDT
DTSTART:20260308T070000
END:DAYLIGHT
BEGIN:STANDARD
TZOFFSETFROM:-0400
TZOFFSETTO:-0500
TZNAME:EST
DTSTART:20261101T060000
END:STANDARD
END:VTIMEZONE
BEGIN:VEVENT
DTSTART;TZID=America/Kentucky/Louisville:20250802T110000
DTEND;TZID=America/Kentucky/Louisville:20250802T200000
DTSTAMP:20260422T112508
CREATED:20250319T011059Z
LAST-MODIFIED:20250530T201155Z
UID:10000038-1754132400-1754164800@screamseeker.com
SUMMARY:CreepyCon Halloween & Horror Convention
DESCRIPTION:Who’s ready to get creepy?!Welcome back\, CreepyCon fans! Have we got some cool stuff in store for you this year. Join us for:-all the amazing vendors you know & love-celebrity guests-workshops-panels– a film festival-contests-performances-VIP packages-giveaways….….there’s just so much stuff! With entertainment all weekend\, you won’t want to leave! \nWe’ll see you soon. Stay spooky!
URL:https://screamseeker.com/event/creepycon-halloween-horror-convention/2025-08-02/
LOCATION:Knoxville Convention Center\, 701 Henley St\, Knoxville\, TN\, 37902\, United States
CATEGORIES:Convention
ATTACH;FMTTYPE=image/jpeg:https://screamseeker.com/wp-content/uploads/2025/03/creepycon-2025.jpg
END:VEVENT
BEGIN:VEVENT
DTSTART;TZID=America/Kentucky/Louisville:20250803T120000
DTEND;TZID=America/Kentucky/Louisville:20250803T170000
DTSTAMP:20260422T112508
CREATED:20250319T011059Z
LAST-MODIFIED:20250530T201155Z
UID:10000039-1754222400-1754240400@screamseeker.com
SUMMARY:CreepyCon Halloween & Horror Convention
DESCRIPTION:Who’s ready to get creepy?!Welcome back\, CreepyCon fans! Have we got some cool stuff in store for you this year. Join us for:-all the amazing vendors you know & love-celebrity guests-workshops-panels– a film festival-contests-performances-VIP packages-giveaways….….there’s just so much stuff! With entertainment all weekend\, you won’t want to leave! \nWe’ll see you soon. Stay spooky!
URL:https://screamseeker.com/event/creepycon-halloween-horror-convention/2025-08-03/
LOCATION:Knoxville Convention Center\, 701 Henley St\, Knoxville\, TN\, 37902\, United States
CATEGORIES:Convention
ATTACH;FMTTYPE=image/jpeg:https://screamseeker.com/wp-content/uploads/2025/03/creepycon-2025.jpg
END:VEVENT
BEGIN:VEVENT
DTSTART;TZID=America/Kentucky/Louisville:20250816T090000
DTEND;TZID=America/Kentucky/Louisville:20250816T190000
DTSTAMP:20260422T112508
CREATED:20250616T071433Z
LAST-MODIFIED:20250616T071433Z
UID:10000599-1755334800-1755370800@screamseeker.com
SUMMARY:Tennessee Wildman and Cryptid Con 2025
DESCRIPTION:Across the Volunteer State\, a myriad of local and regional names stand for Bigfoot-like creatures seen and encountered just outside local townships and communities. From the Flintville Monster to the White Screamer of White Bluff\, to “Old Green Eyes” of Lookout Mountain and the Screaming Jacks of the Cumberland Plateau – reports of hairy Wildmen have remained consistent across the ages. \nWhether captured in the tall tales of the European frontiersmen whom first entered it’s remote foothills and hollows or the matter of fact re-tellings of the Indigenous peoples whom once lived here along side them\, within Tennessee’s wooded\, rural deep country\, legends not only walk and wail\, they leave imprints everywhere – Upon the wild grounds on which they tread and in the lives of those that encounter them\, the communities they haunt and the mythic stories and legends they leave echo across the state’s history. \nFrom the Smoky Mountains in the east to the karst-ridden Cumberland Mountains of Middle Tennessee\, and from the river and lake bottoms of the Tennessee basin to the sprawling floodplains along the Mississippi river at our western edge\, the Volunteer State has always held a deep history marked with the mysterious\, the extraordinary\, the paranormal and the bizarre. \nMost infamous of Tennessee’s fortean folklores is quite likely the Bell Witch of Adams\, Tennessee – But did you know that a 6ft 5inch hair-covered Wildman was tracked\, hunted down and captured in Middle Tennessee\, near Sparta\, in the late 1800’s? \nHave you ever heard of the “Tennessee Pygmies” purportedly discovered throughout the nineteenth century\, with thousands of them seemingly buried en-mass with their remains interned in acres-large slate-box graveyards along the western edge of the Cumberland Mountains? Were you aware that the local indigenous tribes of the region all accepted their existence quite matter of factly and both respected and feared them? \nWere you aware that one of America’s first reported cryptids\, the “Cheeklaceela” described as a 4 foot tall “Dragon”\, was made by multiple military soldiers serving during the Nickajack Expedition of 1794\, a few miles northeast of Cookeville\, Tennessee? \nDid you know that the region west of Nashville\, near Dickson\, Burns and White Bluff are legendary for sightings and encounters with the infamous “Werewolf” of Burns/Montgomery Bell? Did you know those legends stem from an encounter two brothers had that was reported in the regional papers of the time\, in an area that’s now within the state park itself\, that purportedly ended in the death of one of the brothers via the attack from a large\, hairy man-thing? \nThe great state of Tennessee has a long and lengthy history with cryptozoology and strange phenomenon. So let’s explore some of it with the Researchers\, Field Investigators and Experiencers that are out looking for these mysterious phenomenon\, shall we?
URL:https://screamseeker.com/event/tennessee-wildman-and-cryptid-con-2025/
LOCATION:Milner Recreation Center\, 500 Garfield Street\, McMinnville\, TN\, 37110\, United States
CATEGORIES:Convention
ATTACH;FMTTYPE=image/jpeg:https://screamseeker.com/wp-content/uploads/2025/06/August-1-3-1.jpg
ORGANIZER;CN="Fortean TN":MAILTO:tennessquatch@gmail.com
END:VEVENT
BEGIN:VEVENT
DTSTART;TZID=America/Kentucky/Louisville:20251011T110000
DTEND;TZID=America/Kentucky/Louisville:20251011T210000
DTSTAMP:20260422T112508
CREATED:20251009T040111Z
LAST-MODIFIED:20251009T040111Z
UID:10000681-1760180400-1760216400@screamseeker.com
SUMMARY:Appalachian HorrorFest 2025
DESCRIPTION:Appalachian HorrorFest has experienced tremendous growth over the past two years\, and 2025 is shaping up to be our biggest and best event yet! The festival is moving to a new and larger venue at the Conference Center at Holiday Inn – Cedar Bluff in Knoxville\, Tennessee. \nFor those who relish a good scare\, DON’T MISS OUT on a full day of  OVER 7\,000 square feet of storytelling\, music\, vendors\, and more. Experience a diverse array of activities\, and look forward to an immersive and engaging experience! This event is an absolute must-attend. \nGather your friends and family\, turn off your phones\, and join us for a day filled with horror and fantasy in a family-friendly atmosphere.  Our talented storytellers will mesmerize you with tales from around the world and close to home\, each one guaranteed to make you check under the bed before you turn in for the night.
URL:https://screamseeker.com/event/appalachian-horrorfest-2025/
LOCATION:Holiday Inn – Cedar Bluff Convention Center\, 9134 Executive Park Dr\,\, Knoxville\, TN\, 37923\, United States
CATEGORIES:Convention
ATTACH;FMTTYPE=image/jpeg:https://screamseeker.com/wp-content/uploads/2025/10/August-1-3-4.jpg
END:VEVENT
BEGIN:VEVENT
DTSTART;TZID=America/Kentucky/Louisville:20251017T160000
DTEND;TZID=America/Kentucky/Louisville:20251017T210000
DTSTAMP:20260422T112508
CREATED:20250828T192904Z
LAST-MODIFIED:20251013T162603Z
UID:10000608-1760716800-1760734800@screamseeker.com
SUMMARY:SCAREFEST WEEKEND 17
DESCRIPTION:Get ready for the ultimate weekend of thrills\, chills\, and unforgettable horror at ScareFest Weekend 17\, one of the largest horror and paranormal conventions in the U.S.!\nThis year’s event features an electrifying lineup of celebrity guests from your favorite horror films and TV shows\, a massive vendor floor packed with collectibles\, oddities\, and fan-favorite merchandise\, plus interactive attractions\, live panels\, and photo ops you won’t find anywhere else.\n– Explore the haunted halls of the Warrens’ Occult Museum– Get inked in the expanded ScareFest Ink Tattoo Expo– Catch original films and eerie shorts at the ScareFest Film Festival– Hear from paranormal experts\, horror icons\, and creators across multiple stages– Enter the legendary Costume Contest or join one of our immersive after-hours events\n– Kids 12 and under are FREE all weekend– Sunday features family-friendly programming and our popular Kids Day– All weekend long enjoy FREE panels with celebrity guests\nWhether you’re a die-hard horror fan\, a ghost-hunting enthusiast\, or just here for the cosplay and collectibles\, ScareFest 17 promises a weekend of spine-tingling entertainment.
URL:https://screamseeker.com/event/scarefest-weekend-17/2025-10-17/
LOCATION:Central Bank Center\, 430 W Vine St\, Lexington\, KY\, 40507\, United States
CATEGORIES:Convention
ATTACH;FMTTYPE=image/jpeg:https://screamseeker.com/wp-content/uploads/2025/08/ScreamSeeker-Event-Photo-Template-8.jpg
ORGANIZER;CN="ScareFest Weekend":MAILTO:Info@thescarefest.com
END:VEVENT
BEGIN:VEVENT
DTSTART;TZID=America/Kentucky/Louisville:20251018T110000
DTEND;TZID=America/Kentucky/Louisville:20251018T200000
DTSTAMP:20260422T112508
CREATED:20250828T192904Z
LAST-MODIFIED:20251013T162603Z
UID:10000609-1760785200-1760817600@screamseeker.com
SUMMARY:SCAREFEST WEEKEND 17
DESCRIPTION:Get ready for the ultimate weekend of thrills\, chills\, and unforgettable horror at ScareFest Weekend 17\, one of the largest horror and paranormal conventions in the U.S.!\nThis year’s event features an electrifying lineup of celebrity guests from your favorite horror films and TV shows\, a massive vendor floor packed with collectibles\, oddities\, and fan-favorite merchandise\, plus interactive attractions\, live panels\, and photo ops you won’t find anywhere else.\n– Explore the haunted halls of the Warrens’ Occult Museum– Get inked in the expanded ScareFest Ink Tattoo Expo– Catch original films and eerie shorts at the ScareFest Film Festival– Hear from paranormal experts\, horror icons\, and creators across multiple stages– Enter the legendary Costume Contest or join one of our immersive after-hours events\n– Kids 12 and under are FREE all weekend– Sunday features family-friendly programming and our popular Kids Day– All weekend long enjoy FREE panels with celebrity guests\nWhether you’re a die-hard horror fan\, a ghost-hunting enthusiast\, or just here for the cosplay and collectibles\, ScareFest 17 promises a weekend of spine-tingling entertainment.
URL:https://screamseeker.com/event/scarefest-weekend-17/2025-10-18/
LOCATION:Central Bank Center\, 430 W Vine St\, Lexington\, KY\, 40507\, United States
CATEGORIES:Convention
ATTACH;FMTTYPE=image/jpeg:https://screamseeker.com/wp-content/uploads/2025/08/ScreamSeeker-Event-Photo-Template-8.jpg
ORGANIZER;CN="ScareFest Weekend":MAILTO:Info@thescarefest.com
END:VEVENT
BEGIN:VEVENT
DTSTART;TZID=America/Kentucky/Louisville:20251019T110000
DTEND;TZID=America/Kentucky/Louisville:20251019T170000
DTSTAMP:20260422T112508
CREATED:20250828T192904Z
LAST-MODIFIED:20251013T162603Z
UID:10000610-1760871600-1760893200@screamseeker.com
SUMMARY:SCAREFEST WEEKEND 17
DESCRIPTION:Get ready for the ultimate weekend of thrills\, chills\, and unforgettable horror at ScareFest Weekend 17\, one of the largest horror and paranormal conventions in the U.S.!\nThis year’s event features an electrifying lineup of celebrity guests from your favorite horror films and TV shows\, a massive vendor floor packed with collectibles\, oddities\, and fan-favorite merchandise\, plus interactive attractions\, live panels\, and photo ops you won’t find anywhere else.\n– Explore the haunted halls of the Warrens’ Occult Museum– Get inked in the expanded ScareFest Ink Tattoo Expo– Catch original films and eerie shorts at the ScareFest Film Festival– Hear from paranormal experts\, horror icons\, and creators across multiple stages– Enter the legendary Costume Contest or join one of our immersive after-hours events\n– Kids 12 and under are FREE all weekend– Sunday features family-friendly programming and our popular Kids Day– All weekend long enjoy FREE panels with celebrity guests\nWhether you’re a die-hard horror fan\, a ghost-hunting enthusiast\, or just here for the cosplay and collectibles\, ScareFest 17 promises a weekend of spine-tingling entertainment.
URL:https://screamseeker.com/event/scarefest-weekend-17/2025-10-19/
LOCATION:Central Bank Center\, 430 W Vine St\, Lexington\, KY\, 40507\, United States
CATEGORIES:Convention
ATTACH;FMTTYPE=image/jpeg:https://screamseeker.com/wp-content/uploads/2025/08/ScreamSeeker-Event-Photo-Template-8.jpg
ORGANIZER;CN="ScareFest Weekend":MAILTO:Info@thescarefest.com
END:VEVENT
END:VCALENDAR