BEGIN:VCALENDAR
VERSION:2.0
PRODID:-//Scream Seeker - ECPv6.15.20//NONSGML v1.0//EN
CALSCALE:GREGORIAN
METHOD:PUBLISH
X-ORIGINAL-URL:https://screamseeker.com
X-WR-CALDESC:Events for Scream Seeker
REFRESH-INTERVAL;VALUE=DURATION:PT1H
X-Robots-Tag:noindex
X-PUBLISHED-TTL:PT1H
BEGIN:VTIMEZONE
TZID:America/Kentucky/Louisville
BEGIN:DAYLIGHT
TZOFFSETFROM:-0500
TZOFFSETTO:-0400
TZNAME:EDT
DTSTART:20240310T070000
END:DAYLIGHT
BEGIN:STANDARD
TZOFFSETFROM:-0400
TZOFFSETTO:-0500
TZNAME:EST
DTSTART:20241103T060000
END:STANDARD
BEGIN:DAYLIGHT
TZOFFSETFROM:-0500
TZOFFSETTO:-0400
TZNAME:EDT
DTSTART:20250309T070000
END:DAYLIGHT
BEGIN:STANDARD
TZOFFSETFROM:-0400
TZOFFSETTO:-0500
TZNAME:EST
DTSTART:20251102T060000
END:STANDARD
BEGIN:DAYLIGHT
TZOFFSETFROM:-0500
TZOFFSETTO:-0400
TZNAME:EDT
DTSTART:20260308T070000
END:DAYLIGHT
BEGIN:STANDARD
TZOFFSETFROM:-0400
TZOFFSETTO:-0500
TZNAME:EST
DTSTART:20261101T060000
END:STANDARD
END:VTIMEZONE
BEGIN:VEVENT
DTSTART;TZID=America/Kentucky/Louisville:20251102T140000
DTEND;TZID=America/Kentucky/Louisville:20251102T170000
DTSTAMP:20260422T184336
CREATED:20250828T191436Z
LAST-MODIFIED:20250828T191436Z
UID:10000607-1762092000-1762102800@screamseeker.com
SUMMARY:Paint & Sip: Day of the Dead Edition
DESCRIPTION:Join us at Walnut Springs Winery for a colorful night of creativity\, wine\, and celebration! We’ll be painting vibrant sugar skulls inspired by the Día de los Muertos tradition—perfect for beginners and seasoned artists alike.\n All paint supplies included Themed cocktails\, wine\, and wine slushes are available for purchase Food menu available\nCome sip\, paint\, and create a piece you’ll love—while enjoying a night out with friends. Costumes & festive attire encouraged!\nRefund Policy: Cancel 30+ days before the event for a full refund. Cancellations made within 30 days of the event will receive store credit.
URL:https://screamseeker.com/event/paint-sip-day-of-the-dead-edition/
LOCATION:Walnut Springs Winery\, 1175 Midway Rd\, Strawberry Plains\, TN\, 37871\, United States
CATEGORIES:Crafts,Entertainment,Food and Drink
ATTACH;FMTTYPE=image/jpeg:https://screamseeker.com/wp-content/uploads/2025/08/ScreamSeeker-Event-Photo-Template-7.jpg
ORGANIZER;CN="Walnut Springs Winery":MAILTO:sales@walnutspringstn.com
END:VEVENT
BEGIN:VEVENT
DTSTART;TZID=America/Kentucky/Louisville:20251026T180000
DTEND;TZID=America/Kentucky/Louisville:20251026T220000
DTSTAMP:20260422T184336
CREATED:20250530T200251Z
LAST-MODIFIED:20250530T200251Z
UID:10000597-1761501600-1761516000@screamseeker.com
SUMMARY:Scott Stander Presents: The Rocky Horror Picture Show 50th Anniversary Spectacular Tour
DESCRIPTION:TICKETS \nTier 1 – $74.50 plus tax & fees\nTier 2 – $64.50 plus tax & fees\nTier 3 – $54.50 plus tax & fees\nADD-ONS \nBig Room Cave Tour – $14.99 plus tax & fees – See fascinating formations inside Big Room Cave\, a must-visit separate from our subterranean concert venue. Our expert guides will share the wonders of cave geology\, local myths\, and Grundy County’s history. Optional crawl-through passages offer fun for all ages. \nPremium Day Parking Pass – $48.99\, plus tax & fees – A parking spot as close to the venue as possible. No overnight parking or access to campground. \nFast Pass – $19.99\, plus tax & fees – Be among the first to enter the venue with expedited entry through security by purchasing a Fast Pass! This add-on allows pass holders to skip the line and enter the venue hassle-free. A Fast Pass must be purchased in addition to an admission ticket\, and entry time will align with the show’s door time. Check-in begins approximately 15 minutes before doors open. If you’re attending with a group\, each guest will need their own Fast Pass ticket. \nThe Caverns Yurt Stay – for 2 people- $369.99 ($24.99 for each additional guest up to 4 people) plus tax & fees – Our Yurt Village is located in a secluded meadow inside our campground. Take advantage of the best accommodations The Caverns has to offer! Our yurts are a roomy 300 square feet\, climate-controlled\, private accommodations which include two parking spots\, a comfortable bed to rest each night\, a bathroom with a shower\, a microwave\, a mini-fridge\, a coffee maker\, and a private deck for hanging out pre- and post-show. We make it easy—all you have to do is park the car and enjoy the shows knowing you have a soft space to land within walking distance. Includes 2 Fast Pass add-ons. *NO DOGS ALLOWED \nHotel & Transportation Add-On for 2 people – $499.99 for 2\, plus tax & fees – Escape to Manchester\, Tennessee\, just a short ride from The Caverns\, and enjoy a perfect mix of comfort and adventure. With this Hotel & Transportation Add-On\, you’ll unwind at the Comfort Inn & Suites\, where a modern room and hot breakfast await. Explore nearby shopping\, dining\, and outdoor activities\, while we handle all the details for a stress-free getaway. \nYour Hotel & Transportation Add-On includes: \nOne night’s stay for two at the Comfort Inn on the show night\nRound-trip transportation from the Comfort Inn to The Caverns and back\n2 Fast Pass add-ons\nCoat and merchandise check\nPre-Pitched Campsite & Camping Pass for 2 – $224.99\, plus tax & fees – Arrive at The Caverns to a roomy tent fully set up\, stocked\, and waiting for you! A Car Camping Pass is included. Does not include bedding. Must be purchased 7 days prior to the event. \nCar Camping Pass – for up to 4 people – $74.99\, plus tax & fees. \nRV Camping Pass – for up to 6 people – $98.99\, plus tax & fees – Every member of your group must have concert tickets to camp. The Car/RV Camping Pass is for a single vehicle to access The Caverns campground. This pass allows you to enter The Caverns campground at 3p CT on the day of the show and camp next to\, or in\, your vehicle. Each campsite is approximately 20‘ x 20’ for cars and 20′ x 40′ for RVs. If your vehicle is longer than 20′ or you are towing anything\, you must purchase an RV Camping Pass. There are no water hookups onsite. \n30-Amp RV Camping Pass – for up to 6 people – $149.99 plus tax & fees – Located next to the Yurt Village Spring\, we are now offering four (4) 50′ x 25′ treeline RV spots with 30-amp electrical hookups. No water or sewer. \nIn the campground\, porta-potties are available. Potable water is not available\, so please bring your own drinking water. You must exit the campgrounds by 10a CT the next day. Visit campground FAQ webpage. *NO DOGS ALLOWED
URL:https://screamseeker.com/event/scott-stander-presents-the-rocky-horror-picture-show-50th-anniversary-spectacular-tour/
LOCATION:the Caverns\, 555 Charlie Roberts Rd\, Pelham\, TN\, 37366\, United States
CATEGORIES:Entertainment,Interactive Entertainment,Tour/Getaway
ATTACH;FMTTYPE=image/jpeg:https://screamseeker.com/wp-content/uploads/2025/05/ScreamSeeker-Event-Photo-Template-6.jpg
END:VEVENT
BEGIN:VEVENT
DTSTART;TZID=America/Kentucky/Louisville:20251026T163000
DTEND;TZID=America/Kentucky/Louisville:20251026T193000
DTSTAMP:20260422T184336
CREATED:20250622T194902Z
LAST-MODIFIED:20250622T194902Z
UID:10000600-1761496200-1761507000@screamseeker.com
SUMMARY:Halloween Concert
DESCRIPTION:You don’t want to miss this family-friendly spooktacular concert! Wear your costumes and bring your buckets\, as there will be trick-or-treating for the kids during intermission.
URL:https://screamseeker.com/event/halloween-concert/
LOCATION:A K Bissell Park\, 1401 Oak Ridge Tpke\, Oak Ridge\, TN\, 37830\, United States
CATEGORIES:Entertainment,Interactive Entertainment
ATTACH;FMTTYPE=image/jpeg:https://screamseeker.com/wp-content/uploads/2025/06/ScreamSeeker-Event-Photo-Template-1.jpg
ORGANIZER;CN="Oak Ridge Community Band":MAILTO:oakridgecommunityband@gmail.com
END:VEVENT
BEGIN:VEVENT
DTSTART;TZID=America/Kentucky/Louisville:20251026T150000
DTEND;TZID=America/Kentucky/Louisville:20251026T180000
DTSTAMP:20260422T184336
CREATED:20250528T143904Z
LAST-MODIFIED:20250528T144008Z
UID:10000596-1761490800-1761501600@screamseeker.com
SUMMARY:The Spirits of Old Gray Tour
DESCRIPTION:The Spirits of Old Gray Tour will combine the spirits of those being reenacted\,\nalong with beer\, wine and food at your cost.\nWe will also provide walking tours for those interested. \nPAY AT THE GATE\nPay upon entry with cash or credit card.\nNo reservation required.\nJoin us for an afternoon of food\, fun\, spirits\, and some amazing stories! \nPARKING\nParking for this event will be at St. John’s Lutheran Church\, Volunteer Ministry Center\, and neighboring parking lots
URL:https://screamseeker.com/event/the-spirits-of-old-gray-tour/
LOCATION:Old Grey Cemetery\, 543 N Broadway St\,\, Knoxville\, TN\, 37917\, United States
CATEGORIES:Entertainment,Tour/Getaway
ATTACH;FMTTYPE=image/jpeg:https://screamseeker.com/wp-content/uploads/2025/05/Copy-of-ScreamSeeker-Event-Photo-Template-.jpg
END:VEVENT
BEGIN:VEVENT
DTSTART;TZID=America/Kentucky/Louisville:20251025T160000
DTEND;TZID=America/Kentucky/Louisville:20251025T220000
DTSTAMP:20260422T184336
CREATED:20251009T053546Z
LAST-MODIFIED:20251009T053849Z
UID:10000683-1761408000-1761429600@screamseeker.com
SUMMARY:Boos & Booze Halloween Bar Crawl-Knoxville\, TN
DESCRIPTION:The Boos & Booze Halloween Bar Crawl is creeping into town on Saturday\, October 25th — and it’s going to be bigger\, spookier\, and more BOOzy than ever! \n\n\nDare to crawl through 6+ haunted hotspots in Downtown Knoxville as you summon spirits (both kinds)\, dance with the undead\, and compete for cash in your creepiest costume contest. \nGrab your tickets now before they vanish into the night… \n\n\n\n\n\n\n\n\n Your Ticket Includes:\n\n\n\n\n 2 Complimentary Shots \n $3 Beers | $4 Shots | $6 Spooky Cocktails at all participating bars \n Professional Photographer (your look might just go viral) \n Best Dressed Costume Contest (win prizes!) \n Entry to the Registration Party & Official After Party \n Halloween Bar Crawl Map + Official Bar Crawl USA Lanyard \n No Cover at 5+ Knoxville Bars \n\n\n\n\n\n\nParticipating Bars & Spooky Drink Specials:\n\n\n\n\n\n\n\n\n\n\n\n Skybox Sports Bar & Grill– registration 4pm-6pm \n Mirage Knoxville \n Preservation Pub \n Scruffy City Hall \n Bernadette’s Crystal Gardens \n Skybox – after party 10pm-11pm for drawstring bag & DJ
URL:https://screamseeker.com/event/boos-booze-halloween-bar-crawl-knoxville-tn/
LOCATION:SkyBox Sports Bar & Grill\, 415 S Gay St\, Knoxville\, TN\, 37902\, United States
CATEGORIES:Entertainment,Food and Drink,Tour/Getaway
ATTACH;FMTTYPE=image/jpeg:https://screamseeker.com/wp-content/uploads/2025/10/August-1-3-7-scaled.jpg
ORGANIZER;CN="Bar Crawl USA":MAILTO:info@barcrawlusa.com
END:VEVENT
BEGIN:VEVENT
DTSTART;TZID=America/Kentucky/Louisville:20251025T110000
DTEND;TZID=America/Kentucky/Louisville:20251025T170000
DTSTAMP:20260422T184336
CREATED:20250626T165936Z
LAST-MODIFIED:20250626T165936Z
UID:10000602-1761390000-1761411600@screamseeker.com
SUMMARY:Kill The Lights Beer Fest: Presented by Zul Beer Company
DESCRIPTION:What can you expect?:– More breweries – More world-class beer – More vendors – And lower ticket prices!  \nTICKET INFORMATION COMING SOON!
URL:https://screamseeker.com/event/kill-the-lights-beer-fest-presented-by-zul-beer-company/
LOCATION:Covenant health Park\, 500 E Jackson Ave\, Knoxville\, TN\, 37915\, United States
CATEGORIES:Entertainment,Food and Drink,Market
ATTACH;FMTTYPE=image/jpeg:https://screamseeker.com/wp-content/uploads/2025/06/ScreamSeeker-Event-Photo-Template-4.jpg
ORGANIZER;CN="XUL Beer Company":MAILTO:sales@xulbeer.com
END:VEVENT
BEGIN:VEVENT
DTSTART;TZID=America/Kentucky/Louisville:20251017T200000
DTEND;TZID=America/Kentucky/Louisville:20251017T235900
DTSTAMP:20260422T184336
CREATED:20251009T050049Z
LAST-MODIFIED:20251009T050049Z
UID:10000682-1760731200-1760745540@screamseeker.com
SUMMARY:Murder Mystery At Sassy Anns & Monster Mash DJ Party
DESCRIPTION:Come Get Your Sassy A… Murdered! October 17\, 2025 |  Sassy Ann’s\nStep into the ultimate Halloween experience—mystery\, music\, and mischief—all for a great cause! A huge thank you to Sassy Ann’s for generously donating their space and helping us bring this unforgettable Halloween night to life for a great cause!\n Murder Mystery Game\nPurchase your ticket and get assigned a Halloween character to play.\nArrive in costume\, gather clues\, and work in teams to solve the mystery before time runs out!\nTwo game times: Early & Late—pick the vibe that suits you.\n Cocktails & Food\n1 spooky signature cocktail included with each game ticket.\nFood truck available for dinner.\n Monster Mash DJ Dance Party\nCostumes encouraged!\nTarot readings\, Ouija board station\, and more spooky fun await.\nAfter-party tickets available at the door (capacity permitting).\n\n\n Support a CauseAll proceeds benefit KAHES initiatives with 10% donated to suicide prevention.\nCostumes\, cocktails\, clues\, and a cause—this is the Halloween party you don’t want to miss! 
URL:https://screamseeker.com/event/murder-mystery-at-sassy-anns-monster-mash-dj-party/
LOCATION:Sassy Ann’s\, 820 N 4th Ave\, Knoxville\, TN\, 37917\, United States
CATEGORIES:Entertainment,Food and Drink,Interactive Entertainment
ATTACH;FMTTYPE=image/jpeg:https://screamseeker.com/wp-content/uploads/2025/10/August-1-3-6-scaled.jpg
ORGANIZER;CN="Knoxville All Hallows Eve Society - KAHES":MAILTO:knoxspookysociety@gmail.com
END:VEVENT
BEGIN:VEVENT
DTSTART;TZID=America/Kentucky/Louisville:20250628T190000
DTEND;TZID=America/Kentucky/Louisville:20250628T233000
DTSTAMP:20260422T184336
CREATED:20250626T184231Z
LAST-MODIFIED:20250628T232327Z
UID:10000603-1751137200-1751153400@screamseeker.com
SUMMARY:Terror in the Woods: Presented by Ijams Nature Center
DESCRIPTION:IT”S BACK!!! Terror in the Woods returns to bring you a night of killer frights and horror that is bound to have you “hooked”! \nJoin Ijams and Central Cinema for everyone’s favorite summer scare event\, featuring I Know What You Did Last Summer and Candyman. And that’s not all! Tennessee Terror Haunted Attractions brings back the haunted trail in full force; you may never want to walk in the woods alone again! It’s going to be epic!\nGrab your favorite blanket or lawn chair and get ready to scream (with delight and maybe a few frights). Doors open at 7 pm and movies and trail begin at dark (~9 pm). \nThere will also be limited vending spots for a horror-themed marketplace. If you are interested in vending at this event\, please email Sarah Brobst at sbrobst@ijams.org. \nFood trucks and beer garden will have tasty meals\, snacks\, and beverages for purchase. NO COOLERS AND NO OUTSIDE ALCOHOL PLEASE. Dogs are allowed\, but must be on leash at all times and will not be allowed on the haunted trail. \nThese events are on the Ijams Visitor Center lawn. In case of inclement weather\, please check the event page and social media for updates. \nTickets include access to both movies and the haunted trail. Space is limited for all movie screenings. Purchasing tickets in advance is highly recommended. Walk-up tickets may not be available.
URL:https://screamseeker.com/event/terror-in-the-woods-presented-by-ijams-nature-center/
LOCATION:Ijams Nature Center\, 2915 Island Home Ave\, Knoxville\, TN\, 37920\, United States
CATEGORIES:Entertainment,Food and Drink,Haunted House,Interactive Entertainment,Market
ATTACH;FMTTYPE=image/jpeg:https://screamseeker.com/wp-content/uploads/2025/06/August-1-3-2.jpg
ORGANIZER;CN="Ijams Nature Center":MAILTO:info@ijams.org
END:VEVENT
BEGIN:VEVENT
DTSTART;TZID=America/Kentucky/Louisville:20250613T180000
DTEND;TZID=America/Kentucky/Louisville:20250613T235900
DTSTAMP:20260422T184336
CREATED:20250613T041820Z
LAST-MODIFIED:20250613T044339Z
UID:10000598-1749837600-1749859140@screamseeker.com
SUMMARY:Friday the 13th Monster Bash @ Token Game Tavern
DESCRIPTION:Join CreepyCon @ Token Game Tavern to celebrate Friday the 13th! Token is bringing the spooky decor\, themed music\, & scary drinks\, CreepyCon is bringing ticket giveaways\, discounted ticket opportunities\, and together we are bringing you an Elvira pinball tournament! Elvira Pinball Tournament- Compete anytime from June 1-13th CreepyCon Discounted Merch- Grab your favorite t-shirt design from last year for a discount before the 2025 show! Also\, free CreepyCon stickers!Spooky Themed Food and Drink- Ticket Discounts/Giveaways- Attendees of the Friday the 13th bash will have access to discounted tickets when purchased on site\, as well as a chance to enter to win FREE tickets for CreepyCon weekend!Let’s get our spooky on at Token!
URL:https://screamseeker.com/event/friday-the-13th-monster-bash-token-game-tavern/
LOCATION:Token Game Tavern\, 213 N Seven Oaks Dr\, Knoxville\, TN\, 37922\, United States
CATEGORIES:Convention,Entertainment,Food and Drink,Interactive Entertainment
ATTACH;FMTTYPE=image/jpeg:https://screamseeker.com/wp-content/uploads/2025/06/August-1-3.jpg
ORGANIZER;CN="CreepyCon Halloween & Horror Convention":MAILTO:events@creepycon.com
END:VEVENT
BEGIN:VEVENT
DTSTART;TZID=America/Kentucky/Louisville:20250523T200000
DTEND;TZID=America/Kentucky/Louisville:20250523T200000
DTSTAMP:20260422T184336
CREATED:20250507T003735Z
LAST-MODIFIED:20250507T003953Z
UID:10000471-1748030400-1748030400@screamseeker.com
SUMMARY:Punk Night
DESCRIPTION:A sick punk flavored night featuring\nLakehaven (Knox Punk)\nFailure 2 Conform (Punk Tn Metal)\nBlitzkrieg Cop (Ramones-core from precinct 1 2 3 4)\nDoors open at 7:00 pm\, and music starts at 8:00 pm\n$10 Cover at the door
URL:https://screamseeker.com/event/punk-night/
LOCATION:The Pilot Light\, 106 E Jackson Ave\, Knoxville\, TN\, 37915\, United States
CATEGORIES:Entertainment
ATTACH;FMTTYPE=image/png:https://screamseeker.com/wp-content/uploads/2025/05/ScreamSeeker-Event-Photo-Template-3.png
END:VEVENT
BEGIN:VEVENT
DTSTART;TZID=America/Kentucky/Louisville:20250514T080000
DTEND;TZID=America/Kentucky/Louisville:20250514T080000
DTSTAMP:20260422T184336
CREATED:20250322T021043Z
LAST-MODIFIED:20250322T021925Z
UID:10000054-1747209600-1747209600@screamseeker.com
SUMMARY:The Psycology of a Murderer
DESCRIPTION:Unlock the mind of a murderer. Join Forensic psychologist Dr. Rachel Toles for an illuminating journey into the darkest corners of a killer’s psyche. In The Psychology of a Murderer\, Dr. Toles delves deep into the twisted minds and motives of infamous killers\, including Jeffrey Dahmer\, Aaron Hernandez\, Chris Watts\, Aileen Wuornos\, the Menendez Brothers\, and more. Discover the psychological factors that drive individuals to commit these heinous acts\, and explore the complex interplay of trauma\, environment\, and mental health. Through gripping case studies\, expert analysis\, and audience Q&A\, you’ll gain a deeper understanding of what turns ordinary people into murderers. Whether you’re a true crime aficionado or simply curious about the human mind\, The Psychology of a Murderer promises to be an unforgettable experience. Don’t miss this captivating evening of insight\, discussion\, and reflection. This event is for ages 13+ and will include content that some may find disturbing.\nThe Psychology of a Murderer\nWednesday\, May 14\, 2025\nDoors: 6:30PM ET\nShow: 7:30PM ET
URL:https://screamseeker.com/event/the-psycology-of-a-murderer/
LOCATION:Bijou Theatre\, 801 S Gay St SW\,\, Knoxville\, TN\, 37902\, United States
CATEGORIES:Entertainment
ATTACH;FMTTYPE=image/jpeg:https://screamseeker.com/wp-content/uploads/2025/03/psychology-of-a-murderer.jpg
ORGANIZER;CN="Worthwhile Sounds":MAILTO:jeff@worthwhilesounds.com
END:VEVENT
END:VCALENDAR