BEGIN:VCALENDAR
VERSION:2.0
PRODID:-//Scream Seeker - ECPv6.15.20//NONSGML v1.0//EN
CALSCALE:GREGORIAN
METHOD:PUBLISH
X-ORIGINAL-URL:https://screamseeker.com
X-WR-CALDESC:Events for Scream Seeker
REFRESH-INTERVAL;VALUE=DURATION:PT1H
X-Robots-Tag:noindex
X-PUBLISHED-TTL:PT1H
BEGIN:VTIMEZONE
TZID:America/Kentucky/Louisville
BEGIN:DAYLIGHT
TZOFFSETFROM:-0500
TZOFFSETTO:-0400
TZNAME:EDT
DTSTART:20240310T070000
END:DAYLIGHT
BEGIN:STANDARD
TZOFFSETFROM:-0400
TZOFFSETTO:-0500
TZNAME:EST
DTSTART:20241103T060000
END:STANDARD
BEGIN:DAYLIGHT
TZOFFSETFROM:-0500
TZOFFSETTO:-0400
TZNAME:EDT
DTSTART:20250309T070000
END:DAYLIGHT
BEGIN:STANDARD
TZOFFSETFROM:-0400
TZOFFSETTO:-0500
TZNAME:EST
DTSTART:20251102T060000
END:STANDARD
BEGIN:DAYLIGHT
TZOFFSETFROM:-0500
TZOFFSETTO:-0400
TZNAME:EDT
DTSTART:20260308T070000
END:DAYLIGHT
BEGIN:STANDARD
TZOFFSETFROM:-0400
TZOFFSETTO:-0500
TZNAME:EST
DTSTART:20261101T060000
END:STANDARD
END:VTIMEZONE
BEGIN:VEVENT
DTSTART;TZID=America/Kentucky/Louisville:20250613T180000
DTEND;TZID=America/Kentucky/Louisville:20250613T235900
DTSTAMP:20260422T180652
CREATED:20250613T041820Z
LAST-MODIFIED:20250613T044339Z
UID:10000598-1749837600-1749859140@screamseeker.com
SUMMARY:Friday the 13th Monster Bash @ Token Game Tavern
DESCRIPTION:Join CreepyCon @ Token Game Tavern to celebrate Friday the 13th! Token is bringing the spooky decor\, themed music\, & scary drinks\, CreepyCon is bringing ticket giveaways\, discounted ticket opportunities\, and together we are bringing you an Elvira pinball tournament! Elvira Pinball Tournament- Compete anytime from June 1-13th CreepyCon Discounted Merch- Grab your favorite t-shirt design from last year for a discount before the 2025 show! Also\, free CreepyCon stickers!Spooky Themed Food and Drink- Ticket Discounts/Giveaways- Attendees of the Friday the 13th bash will have access to discounted tickets when purchased on site\, as well as a chance to enter to win FREE tickets for CreepyCon weekend!Let’s get our spooky on at Token!
URL:https://screamseeker.com/event/friday-the-13th-monster-bash-token-game-tavern/
LOCATION:Token Game Tavern\, 213 N Seven Oaks Dr\, Knoxville\, TN\, 37922\, United States
CATEGORIES:Convention,Entertainment,Food and Drink,Interactive Entertainment
ATTACH;FMTTYPE=image/jpeg:https://screamseeker.com/wp-content/uploads/2025/06/August-1-3.jpg
ORGANIZER;CN="CreepyCon Halloween & Horror Convention":MAILTO:events@creepycon.com
END:VEVENT
BEGIN:VEVENT
DTSTART;TZID=America/Kentucky/Louisville:20250524T180000
DTEND;TZID=America/Kentucky/Louisville:20250524T203000
DTSTAMP:20260422T180652
CREATED:20250507T001609Z
LAST-MODIFIED:20250507T002818Z
UID:10000470-1748109600-1748118600@screamseeker.com
SUMMARY:Bridgerton Murder Mystery
DESCRIPTION:Step into the world of scandal\, mystery\, and romance at our Bridgerton & Jane Austen murder mystery dinner at the winery!  Join us for an unforgettable evening of sipping wine\, solving a murder\, and mingling with characters straight out of your favorite period dramas. Don your most elegant attire and prepare for an adventure like no other! Tickets are limited\, so grab yours now and immerse yourself in a night of intrigue and excitement.\nThis event is 21+\nNo refunds 48 hours before event date\nThis is a game\, so please come expecting to be a character\nDinner is included in your ticket purchase – please contact us prior to the event if you have any food allergies.
URL:https://screamseeker.com/event/briderton-murder-mystery/
LOCATION:Walnut Springs Winery\, 1175 Midway Rd\, Strawberry Plains\, TN\, 37871\, United States
CATEGORIES:Interactive Entertainment
ATTACH;FMTTYPE=image/jpeg:https://screamseeker.com/wp-content/uploads/2025/05/ScreamSeeker-Event-Photo-Template-2.jpg
END:VEVENT
BEGIN:VEVENT
DTSTART;TZID=America/Kentucky/Louisville:20250429T183000
DTEND;TZID=America/Kentucky/Louisville:20250429T213000
DTSTAMP:20260422T180652
CREATED:20250312T053033Z
LAST-MODIFIED:20250313T040545Z
UID:10000021-1745951400-1745962200@screamseeker.com
SUMMARY:The Deadly Inheritance
DESCRIPTION:Join us at Whistlestop Manor for our most interactive murder mystery event! Where we’ll be solving puzzles\, uncovering clues\, and dying of laughter throughout the night! A gourmet dinner will also be provided\, after a delectable collection of appetizers; then\, finishing off with a sweet treat. This three hour event is\, without a doubt\, the interactive entertainment that you and your friends have been looking for!
URL:https://screamseeker.com/event/the-deadly-inheritance/
LOCATION:Whistlestop Manor\, 134 Head of Creek Rd\,\, Sweetwater\, TN\, 37874\, United States
CATEGORIES:Interactive Entertainment
ATTACH;FMTTYPE=image/jpeg:https://screamseeker.com/wp-content/uploads/2025/03/Whistlestop-Manor.jpg
END:VEVENT
BEGIN:VEVENT
DTSTART;TZID=America/Kentucky/Louisville:20250426T183000
DTEND;TZID=America/Kentucky/Louisville:20250426T183000
DTSTAMP:20260422T180652
CREATED:20250320T152718Z
LAST-MODIFIED:20250320T153828Z
UID:10000042-1745692200-1745692200@screamseeker.com
SUMMARY:April's murder mystery is a ... MASQUERADE BALL
DESCRIPTION:April’s murder mystery is a … MASQUERADE BALL\nAPRIL 26th @ 6:30 pm\nWe will have everything your character will need\, come in jeans or dress up if you have something you’re just ” dying” to wear \n* This script has 24 spots\, so if you’re a group of 4\, 6\, 5… ECT this is the one to join!!\nYour ticket includes; costumes\, appetizers\, gourmet dinner\, COSTUMES\, dessert\, beverages and three hours of non stop interactive fun in an 1859 pre civil war estate.\nOur murder mystery dinners are a regal affair and an entire experience you’ll never forget.\nAdults – 80.00\nCall or message to book  (423) 271-6380\nAdd an overnight stay to any party in one of the luxurious suites. 205.00 with homemade breakfast or 165.00 without.
URL:https://screamseeker.com/event/aprils-murder-mystery-is-a-masquerade-ball/
LOCATION:Whistlestop Manor\, 134 Head of Creek Rd\,\, Sweetwater\, TN\, 37874\, United States
CATEGORIES:Interactive Entertainment
ATTACH;FMTTYPE=image/jpeg:https://screamseeker.com/wp-content/uploads/2025/03/ScreamSeeker-Event-Photo-Template-2.jpg
END:VEVENT
END:VCALENDAR