BEGIN:VCALENDAR
VERSION:2.0
PRODID:-//Scream Seeker - ECPv6.15.20//NONSGML v1.0//EN
CALSCALE:GREGORIAN
METHOD:PUBLISH
X-ORIGINAL-URL:https://screamseeker.com
X-WR-CALDESC:Events for Scream Seeker
REFRESH-INTERVAL;VALUE=DURATION:PT1H
X-Robots-Tag:noindex
X-PUBLISHED-TTL:PT1H
BEGIN:VTIMEZONE
TZID:America/Kentucky/Louisville
BEGIN:DAYLIGHT
TZOFFSETFROM:-0500
TZOFFSETTO:-0400
TZNAME:EDT
DTSTART:20240310T070000
END:DAYLIGHT
BEGIN:STANDARD
TZOFFSETFROM:-0400
TZOFFSETTO:-0500
TZNAME:EST
DTSTART:20241103T060000
END:STANDARD
BEGIN:DAYLIGHT
TZOFFSETFROM:-0500
TZOFFSETTO:-0400
TZNAME:EDT
DTSTART:20250309T070000
END:DAYLIGHT
BEGIN:STANDARD
TZOFFSETFROM:-0400
TZOFFSETTO:-0500
TZNAME:EST
DTSTART:20251102T060000
END:STANDARD
BEGIN:DAYLIGHT
TZOFFSETFROM:-0500
TZOFFSETTO:-0400
TZNAME:EDT
DTSTART:20260308T070000
END:DAYLIGHT
BEGIN:STANDARD
TZOFFSETFROM:-0400
TZOFFSETTO:-0500
TZNAME:EST
DTSTART:20261101T060000
END:STANDARD
END:VTIMEZONE
BEGIN:VEVENT
DTSTART;TZID=America/Kentucky/Louisville:20251025T170000
DTEND;TZID=America/Kentucky/Louisville:20251025T210000
DTSTAMP:20260422T025829
CREATED:20250902T204335Z
LAST-MODIFIED:20250902T204335Z
UID:10000621-1761411600-1761426000@screamseeker.com
SUMMARY:Knoxville Creature Gathering
DESCRIPTION:This year\, not only are Zombies welcome but spooky creatures of all kinds! Please join us for our annual charity walk benefiting Helping Mamas Knoxville! Mark your calendars for Saturday\, October 25th! More specific times and details will be announced at a later date!
URL:https://screamseeker.com/event/knoxville-creature-gathering/
LOCATION:Market Square\, Market Square\, Knoxville\, TN\, 37902\, United States
CATEGORIES:Market
ATTACH;FMTTYPE=image/jpeg:https://screamseeker.com/wp-content/uploads/2025/09/August-1-3-1.jpg
END:VEVENT
BEGIN:VEVENT
DTSTART;TZID=America/Kentucky/Louisville:20251025T110000
DTEND;TZID=America/Kentucky/Louisville:20251025T170000
DTSTAMP:20260422T025829
CREATED:20250626T165936Z
LAST-MODIFIED:20250626T165936Z
UID:10000602-1761390000-1761411600@screamseeker.com
SUMMARY:Kill The Lights Beer Fest: Presented by Zul Beer Company
DESCRIPTION:What can you expect?:– More breweries – More world-class beer – More vendors – And lower ticket prices!  \nTICKET INFORMATION COMING SOON!
URL:https://screamseeker.com/event/kill-the-lights-beer-fest-presented-by-zul-beer-company/
LOCATION:Covenant health Park\, 500 E Jackson Ave\, Knoxville\, TN\, 37915\, United States
CATEGORIES:Entertainment,Food and Drink,Market
ATTACH;FMTTYPE=image/jpeg:https://screamseeker.com/wp-content/uploads/2025/06/ScreamSeeker-Event-Photo-Template-4.jpg
ORGANIZER;CN="XUL Beer Company":MAILTO:sales@xulbeer.com
END:VEVENT
BEGIN:VEVENT
DTSTART;TZID=America/Kentucky/Louisville:20250914T110000
DTEND;TZID=America/Kentucky/Louisville:20250914T163000
DTSTAMP:20260422T025829
CREATED:20250322T014350Z
LAST-MODIFIED:20250423T021004Z
UID:10000053-1757847600-1757867400@screamseeker.com
SUMMARY:Mabon- Heathens Trade Fair
DESCRIPTION:Monthly Flea Market with area craftsmen and Food Trucks\n\nThe Heathens Trade Fair is a monthly flea market held on Sundays.  Anyone who has something to sell is invited to come and vend.  Anyone wanting to purchase from local craftsmen and enjoy some good food truck food.
URL:https://screamseeker.com/event/mabon-heathens-trade-fair/
LOCATION:Serenity In the Grove\, 116 Randolph Rd\, Oak Ridge\, TN\, 37830\, United States
CATEGORIES:Market
ATTACH;FMTTYPE=image/jpeg:https://screamseeker.com/wp-content/uploads/2025/03/mahon-heathens-trade-fair.jpg
END:VEVENT
BEGIN:VEVENT
DTSTART;TZID=America/Kentucky/Louisville:20250725T173000
DTEND;TZID=America/Kentucky/Louisville:20250725T210000
DTSTAMP:20260422T025829
CREATED:20250312T060017Z
LAST-MODIFIED:20250313T040326Z
UID:10000025-1753464600-1753477200@screamseeker.com
SUMMARY:Dark Market: Cryptids of the Appalachia
DESCRIPTION:Dark Market is back with a curated collection of over 35 of the best artists\, makers\, and curators in the South East. This highly coveted night is full of the mystics\, oddities\, apothecary\, herbology\, alchemy\, curiousities\, tarot\, and more. Enjoy the artistry and craftsmanship of the vendors along with music\, food\, and of course\, beer!
URL:https://screamseeker.com/event/dark-market-cryptids-of-the-appalachia/
LOCATION:Hi-Wire Brewing: Knoxville\, 2020 Barber St\, Knoxville\, TN 37920\, Knoxville\, TN\, 37920\, United States
CATEGORIES:Market
ATTACH;FMTTYPE=image/jpeg:https://screamseeker.com/wp-content/uploads/2025/03/Dark-Market-Cryptids1.jpg
END:VEVENT
BEGIN:VEVENT
DTSTART;TZID=America/Kentucky/Louisville:20250628T190000
DTEND;TZID=America/Kentucky/Louisville:20250628T233000
DTSTAMP:20260422T025829
CREATED:20250626T184231Z
LAST-MODIFIED:20250628T232327Z
UID:10000603-1751137200-1751153400@screamseeker.com
SUMMARY:Terror in the Woods: Presented by Ijams Nature Center
DESCRIPTION:IT”S BACK!!! Terror in the Woods returns to bring you a night of killer frights and horror that is bound to have you “hooked”! \nJoin Ijams and Central Cinema for everyone’s favorite summer scare event\, featuring I Know What You Did Last Summer and Candyman. And that’s not all! Tennessee Terror Haunted Attractions brings back the haunted trail in full force; you may never want to walk in the woods alone again! It’s going to be epic!\nGrab your favorite blanket or lawn chair and get ready to scream (with delight and maybe a few frights). Doors open at 7 pm and movies and trail begin at dark (~9 pm). \nThere will also be limited vending spots for a horror-themed marketplace. If you are interested in vending at this event\, please email Sarah Brobst at sbrobst@ijams.org. \nFood trucks and beer garden will have tasty meals\, snacks\, and beverages for purchase. NO COOLERS AND NO OUTSIDE ALCOHOL PLEASE. Dogs are allowed\, but must be on leash at all times and will not be allowed on the haunted trail. \nThese events are on the Ijams Visitor Center lawn. In case of inclement weather\, please check the event page and social media for updates. \nTickets include access to both movies and the haunted trail. Space is limited for all movie screenings. Purchasing tickets in advance is highly recommended. Walk-up tickets may not be available.
URL:https://screamseeker.com/event/terror-in-the-woods-presented-by-ijams-nature-center/
LOCATION:Ijams Nature Center\, 2915 Island Home Ave\, Knoxville\, TN\, 37920\, United States
CATEGORIES:Entertainment,Food and Drink,Haunted House,Interactive Entertainment,Market
ATTACH;FMTTYPE=image/jpeg:https://screamseeker.com/wp-content/uploads/2025/06/August-1-3-2.jpg
ORGANIZER;CN="Ijams Nature Center":MAILTO:info@ijams.org
END:VEVENT
BEGIN:VEVENT
DTSTART;TZID=America/Kentucky/Louisville:20250516T053000
DTEND;TZID=America/Kentucky/Louisville:20250516T210000
DTSTAMP:20260422T025829
CREATED:20250311T040338Z
LAST-MODIFIED:20250313T024141Z
UID:10000004-1747373400-1747429200@screamseeker.com
SUMMARY:Dark Market: Knoxville
DESCRIPTION:Dark Market is back with a curated collection of over 35 of the best artists\, makers and curators in the South East. This highly coveted night is full of the mystics\, oddities\, apothecary\, herbology\, alchemy\, curiosities\, tarot and more. Enjoy the artistry and craftmanship of the vendors along with music\, food and\, of course\, beer!\nMore details to follow
URL:https://screamseeker.com/event/dark-market-knoxville/
LOCATION:Hi-Wire Brewing: Knoxville\, 2020 Barber St\, Knoxville\, TN 37920\, Knoxville\, TN\, 37920\, United States
CATEGORIES:Market
ATTACH;FMTTYPE=image/jpeg:https://screamseeker.com/wp-content/uploads/2025/03/Dark-Market-HiWire.jpg
END:VEVENT
BEGIN:VEVENT
DTSTART;TZID=America/Kentucky/Louisville:20250506T140000
DTEND;TZID=America/Kentucky/Louisville:20250506T210000
DTSTAMP:20260422T025829
CREATED:20250506T051106Z
LAST-MODIFIED:20250506T051234Z
UID:10000467-1746540000-1746565200@screamseeker.com
SUMMARY:Halfway to Halloween Vendor Market
DESCRIPTION:It’s halfway to Halloween and we are celebrating! What is better than tacos from BirriaBabe\, Cider from Cyanide Cider\, shopping from local vendors and a costume contest in the spring!?\n\nWe can’t wait to celebrate with you!
URL:https://screamseeker.com/event/halfway-to-halloween-vendor-market/
LOCATION:Cyanide Cider\, 410 Woodbine St\, Nashville\, TN\, 37211\, United States
CATEGORIES:Market
ATTACH;FMTTYPE=image/jpeg:https://screamseeker.com/wp-content/uploads/2025/05/Copy-of-ScreamSeeker-Event-Photo-Template-3.jpg
ORGANIZER;CN="Cyanide Cider":MAILTO:info@cgbrewery.com
END:VEVENT
END:VCALENDAR