BEGIN:VCALENDAR
VERSION:2.0
PRODID:-//Scream Seeker - ECPv6.15.20//NONSGML v1.0//EN
CALSCALE:GREGORIAN
METHOD:PUBLISH
X-ORIGINAL-URL:https://screamseeker.com
X-WR-CALDESC:Events for Scream Seeker
REFRESH-INTERVAL;VALUE=DURATION:PT1H
X-Robots-Tag:noindex
X-PUBLISHED-TTL:PT1H
BEGIN:VTIMEZONE
TZID:America/Kentucky/Louisville
BEGIN:DAYLIGHT
TZOFFSETFROM:-0500
TZOFFSETTO:-0400
TZNAME:EDT
DTSTART:20240310T070000
END:DAYLIGHT
BEGIN:STANDARD
TZOFFSETFROM:-0400
TZOFFSETTO:-0500
TZNAME:EST
DTSTART:20241103T060000
END:STANDARD
BEGIN:DAYLIGHT
TZOFFSETFROM:-0500
TZOFFSETTO:-0400
TZNAME:EDT
DTSTART:20250309T070000
END:DAYLIGHT
BEGIN:STANDARD
TZOFFSETFROM:-0400
TZOFFSETTO:-0500
TZNAME:EST
DTSTART:20251102T060000
END:STANDARD
BEGIN:DAYLIGHT
TZOFFSETFROM:-0500
TZOFFSETTO:-0400
TZNAME:EDT
DTSTART:20260308T070000
END:DAYLIGHT
BEGIN:STANDARD
TZOFFSETFROM:-0400
TZOFFSETTO:-0500
TZNAME:EST
DTSTART:20261101T060000
END:STANDARD
END:VTIMEZONE
BEGIN:VEVENT
DTSTART;TZID=America/Kentucky/Louisville:20251009T190000
DTEND;TZID=America/Kentucky/Louisville:20251009T210000
DTSTAMP:20260422T183202
CREATED:20251009T055123Z
LAST-MODIFIED:20251009T055228Z
UID:10000684-1760036400-1760043600@screamseeker.com
SUMMARY:IJAMS SUNSET SOCIAL: Spooky Poetry Slam
DESCRIPTION:Join the Knoxville Poetry Slam and Ijams Nature Center for a hauntingly fun night of haikus\, poems\, sonnets\, and more at the Spooky Poetry Slam!\nThis event features an Open Mic for poets who wish to share their work and a poetry slam where you can bring out your best work for all to hear. Bring three 3-minute poems.\nNo props\, no musical accompaniment. Original work ONLY (not all works have to be spooky in nature!). If you score high enough\, you’ll move on to the next round.\n\nTickets are $10 online or at the door. Parking passes will be included in your ticket cost thanks to our sponsor: Boston Beer Co.\nDoors open at 6:45 pm; the mic officially opens at 7 pm.\nCome on in to sign up and get your name on the list to get your spooky spoken word on! \nThe Ijams concession area and beer garden will be available for food and beverage purchases. No outside coolers or alcohol permitted. We will be indoors for this event!\nThis event\, like all Knoxville Poetry Slam events\, is considered all ages; however\, parents\, please use your best discretion when bringing little ones.\nSo come out and invite your friends for some early Halloween fun that you won’t want to miss!\nThe Ijams Sunset Socials are sponsored by: Boston Beer Company.
URL:https://screamseeker.com/event/ijams-sunset-social-spooky-poetry-slam/
LOCATION:Ijams Nature Center\, 2915 Island Home Ave\, Knoxville\, TN\, 37920\, United States
CATEGORIES:Interactive Entertainment
ATTACH;FMTTYPE=image/jpeg:https://screamseeker.com/wp-content/uploads/2025/10/August-1-3-8-scaled.jpg
ORGANIZER;CN="Ijams Nature Center":MAILTO:info@ijams.org
END:VEVENT
END:VCALENDAR