BEGIN:VCALENDAR
VERSION:2.0
PRODID:-//Scream Seeker - ECPv6.15.20//NONSGML v1.0//EN
CALSCALE:GREGORIAN
METHOD:PUBLISH
X-ORIGINAL-URL:https://screamseeker.com
X-WR-CALDESC:Events for Scream Seeker
REFRESH-INTERVAL;VALUE=DURATION:PT1H
X-Robots-Tag:noindex
X-PUBLISHED-TTL:PT1H
BEGIN:VTIMEZONE
TZID:America/Kentucky/Louisville
BEGIN:DAYLIGHT
TZOFFSETFROM:-0500
TZOFFSETTO:-0400
TZNAME:EDT
DTSTART:20240310T070000
END:DAYLIGHT
BEGIN:STANDARD
TZOFFSETFROM:-0400
TZOFFSETTO:-0500
TZNAME:EST
DTSTART:20241103T060000
END:STANDARD
BEGIN:DAYLIGHT
TZOFFSETFROM:-0500
TZOFFSETTO:-0400
TZNAME:EDT
DTSTART:20250309T070000
END:DAYLIGHT
BEGIN:STANDARD
TZOFFSETFROM:-0400
TZOFFSETTO:-0500
TZNAME:EST
DTSTART:20251102T060000
END:STANDARD
BEGIN:DAYLIGHT
TZOFFSETFROM:-0500
TZOFFSETTO:-0400
TZNAME:EDT
DTSTART:20260308T070000
END:DAYLIGHT
BEGIN:STANDARD
TZOFFSETFROM:-0400
TZOFFSETTO:-0500
TZNAME:EST
DTSTART:20261101T060000
END:STANDARD
END:VTIMEZONE
BEGIN:VEVENT
DTSTART;TZID=America/Kentucky/Louisville:20250713T100000
DTEND;TZID=America/Kentucky/Louisville:20250713T170000
DTSTAMP:20260422T124043
CREATED:20250319T213531Z
LAST-MODIFIED:20250319T213531Z
UID:10000041-1752400800-1752426000@screamseeker.com
SUMMARY:Nashville Horror Con
DESCRIPTION:Nashville Horror Con 2025July 12-13\, 2025Farm Bureau Expo Center\, 945 E. Baddour Pkwy\, Lebanon\, TN 37087\nPrepare for a weekend of screams\, thrills\, and unforgettable memories at Nashville Horror Con 2025!\nHorror fans\, get ready for an epic two-day event filled with everything you love about the genre. Featuring celebrity guests\, an array of unique vendors\, exclusive panels\, and immersive activities\, Nashville Horror Con brings the spooky\, the eerie\, and the thrilling to life in the heart of Tennessee.\n\n-Celebrity Guests: Meet iconic stars from your favorite horror movies and TV shows. Take a selfie or grab a pro photo op with them to commemorate the experience.-Vendors: Explore a wide selection of horror-themed collectibles\, artwork\, apparel\, and more from local and national creators.-Panels & Screenings: Dive into behind-the-scenes stories and industry insights with our guest panels and special movie screening room.-Interactive Fun: Participate in paranormal-themed activities\, cosplay contests\, and unique fan experiences.\nTickets: On sale now! Visit NashvilleHorrorCon.com to secure your spot. Early bird discounts and VIP passes are available\, but quantities are limited—act fast!\nFollow us for guest announcements\, event updates\, and surprises leading up to the big weekend. See you in July for the ultimate horror experience!
URL:https://screamseeker.com/event/nashville-horror-con/2025-07-13/
LOCATION:Farm Bureau Expo Center\, 945 E. Baddour Pkwy\, Lebanon\, TN\, United States
CATEGORIES:Convention
ATTACH;FMTTYPE=image/jpeg:https://screamseeker.com/wp-content/uploads/2025/03/nashville-horror-con-2025.jpg
END:VEVENT
BEGIN:VEVENT
DTSTART;TZID=America/Kentucky/Louisville:20250712T100000
DTEND;TZID=America/Kentucky/Louisville:20250712T180000
DTSTAMP:20260422T124043
CREATED:20250319T213531Z
LAST-MODIFIED:20250319T213531Z
UID:10000040-1752314400-1752343200@screamseeker.com
SUMMARY:Nashville Horror Con
DESCRIPTION:Nashville Horror Con 2025July 12-13\, 2025Farm Bureau Expo Center\, 945 E. Baddour Pkwy\, Lebanon\, TN 37087\nPrepare for a weekend of screams\, thrills\, and unforgettable memories at Nashville Horror Con 2025!\nHorror fans\, get ready for an epic two-day event filled with everything you love about the genre. Featuring celebrity guests\, an array of unique vendors\, exclusive panels\, and immersive activities\, Nashville Horror Con brings the spooky\, the eerie\, and the thrilling to life in the heart of Tennessee.\n\n-Celebrity Guests: Meet iconic stars from your favorite horror movies and TV shows. Take a selfie or grab a pro photo op with them to commemorate the experience.-Vendors: Explore a wide selection of horror-themed collectibles\, artwork\, apparel\, and more from local and national creators.-Panels & Screenings: Dive into behind-the-scenes stories and industry insights with our guest panels and special movie screening room.-Interactive Fun: Participate in paranormal-themed activities\, cosplay contests\, and unique fan experiences.\nTickets: On sale now! Visit NashvilleHorrorCon.com to secure your spot. Early bird discounts and VIP passes are available\, but quantities are limited—act fast!\nFollow us for guest announcements\, event updates\, and surprises leading up to the big weekend. See you in July for the ultimate horror experience!
URL:https://screamseeker.com/event/nashville-horror-con/2025-07-12/
LOCATION:Farm Bureau Expo Center\, 945 E. Baddour Pkwy\, Lebanon\, TN\, United States
CATEGORIES:Convention
ATTACH;FMTTYPE=image/jpeg:https://screamseeker.com/wp-content/uploads/2025/03/nashville-horror-con-2025.jpg
END:VEVENT
END:VCALENDAR