BEGIN:VCALENDAR
VERSION:2.0
PRODID:-//Scream Seeker - ECPv6.15.20//NONSGML v1.0//EN
CALSCALE:GREGORIAN
METHOD:PUBLISH
X-ORIGINAL-URL:https://screamseeker.com
X-WR-CALDESC:Events for Scream Seeker
REFRESH-INTERVAL;VALUE=DURATION:PT1H
X-Robots-Tag:noindex
X-PUBLISHED-TTL:PT1H
BEGIN:VTIMEZONE
TZID:America/Kentucky/Louisville
BEGIN:DAYLIGHT
TZOFFSETFROM:-0500
TZOFFSETTO:-0400
TZNAME:EDT
DTSTART:20240310T070000
END:DAYLIGHT
BEGIN:STANDARD
TZOFFSETFROM:-0400
TZOFFSETTO:-0500
TZNAME:EST
DTSTART:20241103T060000
END:STANDARD
BEGIN:DAYLIGHT
TZOFFSETFROM:-0500
TZOFFSETTO:-0400
TZNAME:EDT
DTSTART:20250309T070000
END:DAYLIGHT
BEGIN:STANDARD
TZOFFSETFROM:-0400
TZOFFSETTO:-0500
TZNAME:EST
DTSTART:20251102T060000
END:STANDARD
BEGIN:DAYLIGHT
TZOFFSETFROM:-0500
TZOFFSETTO:-0400
TZNAME:EDT
DTSTART:20260308T070000
END:DAYLIGHT
BEGIN:STANDARD
TZOFFSETFROM:-0400
TZOFFSETTO:-0500
TZNAME:EST
DTSTART:20261101T060000
END:STANDARD
END:VTIMEZONE
BEGIN:VEVENT
DTSTART;TZID=America/Kentucky/Louisville:20250515T180000
DTEND;TZID=America/Kentucky/Louisville:20250515T190000
DTSTAMP:20260422T120918
CREATED:20250506T235522Z
LAST-MODIFIED:20250506T235522Z
UID:10000468-1747332000-1747335600@screamseeker.com
SUMMARY:Divination Study Group - Black Mirror Scrying
DESCRIPTION:Bring your favorite tools and come out to practice!\nAs always\, any and all divination tools are welcome. However\, this month’s Tool of the Month is Black Mirrors! At the start of the study group\, we’ll have a little workshop in which you can make your own black mirror and learn how to use it. Cost for this is $7 to cover the supplies.\nIf you’re bringing your own tools to practice\, the suggested donation is $7\, but don’t let the cost keep you from coming to hang out with us!
URL:https://screamseeker.com/event/divination-study-group-black-mirror-scrying/
LOCATION:Hey Bear Cafe\, 9036 Middlebrook Pike\, Knoxville\, TN\, 37923\, United States
CATEGORIES:Crafts
ATTACH;FMTTYPE=image/png:https://screamseeker.com/wp-content/uploads/2025/05/ScreamSeeker-Event-Photo-Template-.png
END:VEVENT
END:VCALENDAR