BEGIN:VCALENDAR
VERSION:2.0
PRODID:-//Scream Seeker - ECPv6.15.20//NONSGML v1.0//EN
CALSCALE:GREGORIAN
METHOD:PUBLISH
X-WR-CALNAME:Scream Seeker
X-ORIGINAL-URL:https://screamseeker.com
X-WR-CALDESC:Events for Scream Seeker
REFRESH-INTERVAL;VALUE=DURATION:PT1H
X-Robots-Tag:noindex
X-PUBLISHED-TTL:PT1H
BEGIN:VTIMEZONE
TZID:America/Kentucky/Louisville
BEGIN:DAYLIGHT
TZOFFSETFROM:-0500
TZOFFSETTO:-0400
TZNAME:EDT
DTSTART:20240310T070000
END:DAYLIGHT
BEGIN:STANDARD
TZOFFSETFROM:-0400
TZOFFSETTO:-0500
TZNAME:EST
DTSTART:20241103T060000
END:STANDARD
BEGIN:DAYLIGHT
TZOFFSETFROM:-0500
TZOFFSETTO:-0400
TZNAME:EDT
DTSTART:20250309T070000
END:DAYLIGHT
BEGIN:STANDARD
TZOFFSETFROM:-0400
TZOFFSETTO:-0500
TZNAME:EST
DTSTART:20251102T060000
END:STANDARD
BEGIN:DAYLIGHT
TZOFFSETFROM:-0500
TZOFFSETTO:-0400
TZNAME:EDT
DTSTART:20260308T070000
END:DAYLIGHT
BEGIN:STANDARD
TZOFFSETFROM:-0400
TZOFFSETTO:-0500
TZNAME:EST
DTSTART:20261101T060000
END:STANDARD
END:VTIMEZONE
BEGIN:VEVENT
DTSTART;TZID=America/Kentucky/Louisville:20250513T130000
DTEND;TZID=America/Kentucky/Louisville:20250513T170000
DTSTAMP:20260422T184448
CREATED:20250507T000628Z
LAST-MODIFIED:20250507T000628Z
UID:10000469-1747141200-1747155600@screamseeker.com
SUMMARY:Mini Tarot Readings with East Shea Miracle
DESCRIPTION:✨Numerical Reading: $5\n✨One Card: $10\n✨Mini Spread: $25\n✨Cash\, Venmo\, PayPal\, and Cash App accepted\n✨Tips greatly appreciated\n✨No appointments necessary; walk-ins welcome
URL:https://screamseeker.com/event/mini-tarot-readings-with-east-shea-miracle/
LOCATION:New Moon Rising Gifts & Goods\, 1520 N. Central St. #101\, Knoxville\, TN\, 37917\, United States
CATEGORIES:Spiritual
ATTACH;FMTTYPE=image/jpeg:https://screamseeker.com/wp-content/uploads/2025/05/ScreamSeeker-Event-Photo-Template-1.jpg
END:VEVENT
END:VCALENDAR