BEGIN:VCALENDAR
VERSION:2.0
PRODID:-//Scream Seeker - ECPv6.15.20//NONSGML v1.0//EN
CALSCALE:GREGORIAN
METHOD:PUBLISH
X-WR-CALNAME:Scream Seeker
X-ORIGINAL-URL:https://screamseeker.com
X-WR-CALDESC:Events for Scream Seeker
REFRESH-INTERVAL;VALUE=DURATION:PT1H
X-Robots-Tag:noindex
X-PUBLISHED-TTL:PT1H
BEGIN:VTIMEZONE
TZID:America/Kentucky/Louisville
BEGIN:DAYLIGHT
TZOFFSETFROM:-0500
TZOFFSETTO:-0400
TZNAME:EDT
DTSTART:20240310T070000
END:DAYLIGHT
BEGIN:STANDARD
TZOFFSETFROM:-0400
TZOFFSETTO:-0500
TZNAME:EST
DTSTART:20241103T060000
END:STANDARD
BEGIN:DAYLIGHT
TZOFFSETFROM:-0500
TZOFFSETTO:-0400
TZNAME:EDT
DTSTART:20250309T070000
END:DAYLIGHT
BEGIN:STANDARD
TZOFFSETFROM:-0400
TZOFFSETTO:-0500
TZNAME:EST
DTSTART:20251102T060000
END:STANDARD
BEGIN:DAYLIGHT
TZOFFSETFROM:-0500
TZOFFSETTO:-0400
TZNAME:EDT
DTSTART:20260308T070000
END:DAYLIGHT
BEGIN:STANDARD
TZOFFSETFROM:-0400
TZOFFSETTO:-0500
TZNAME:EST
DTSTART:20261101T060000
END:STANDARD
END:VTIMEZONE
BEGIN:VEVENT
DTSTART;TZID=America/Kentucky/Louisville:20250926T150000
DTEND;TZID=America/Kentucky/Louisville:20250928T110000
DTSTAMP:20260422T170709
CREATED:20250312T055234Z
LAST-MODIFIED:20250423T020420Z
UID:10000024-1758898800-1759057200@screamseeker.com
SUMMARY:Camp Dreadwood
DESCRIPTION:Camp Dreadwood returns for part 2! This exciting event high in the mountains of East Tennessee is adding even more than last year! Rent a cabin\, rent a tent space\, or just grab some day passes and enjoy one of the year’s most exciting events! Camp dreadwood will be packed full of high energy entertainment\, live music\, vendors\, food trucks\, cosplayers\, and special guests.
URL:https://screamseeker.com/event/camp-dreadwood/
LOCATION:Possum Trot\, 517 Adkins Trail\, Winfield\, TN\, 37892\, United States
CATEGORIES:Interactive Entertainment,Tour/Getaway
ATTACH;FMTTYPE=image/jpeg:https://screamseeker.com/wp-content/uploads/2025/03/Camp-Dreadwood.jpg
END:VEVENT
END:VCALENDAR