BEGIN:VCALENDAR
VERSION:2.0
PRODID:-//Scream Seeker - ECPv6.15.20//NONSGML v1.0//EN
CALSCALE:GREGORIAN
METHOD:PUBLISH
X-ORIGINAL-URL:https://screamseeker.com
X-WR-CALDESC:Events for Scream Seeker
REFRESH-INTERVAL;VALUE=DURATION:PT1H
X-Robots-Tag:noindex
X-PUBLISHED-TTL:PT1H
BEGIN:VTIMEZONE
TZID:America/Kentucky/Louisville
BEGIN:DAYLIGHT
TZOFFSETFROM:-0500
TZOFFSETTO:-0400
TZNAME:EDT
DTSTART:20240310T070000
END:DAYLIGHT
BEGIN:STANDARD
TZOFFSETFROM:-0400
TZOFFSETTO:-0500
TZNAME:EST
DTSTART:20241103T060000
END:STANDARD
BEGIN:DAYLIGHT
TZOFFSETFROM:-0500
TZOFFSETTO:-0400
TZNAME:EDT
DTSTART:20250309T070000
END:DAYLIGHT
BEGIN:STANDARD
TZOFFSETFROM:-0400
TZOFFSETTO:-0500
TZNAME:EST
DTSTART:20251102T060000
END:STANDARD
BEGIN:DAYLIGHT
TZOFFSETFROM:-0500
TZOFFSETTO:-0400
TZNAME:EDT
DTSTART:20260308T070000
END:DAYLIGHT
BEGIN:STANDARD
TZOFFSETFROM:-0400
TZOFFSETTO:-0500
TZNAME:EST
DTSTART:20261101T060000
END:STANDARD
END:VTIMEZONE
BEGIN:VEVENT
DTSTART;TZID=America/Kentucky/Louisville:20251102T140000
DTEND;TZID=America/Kentucky/Louisville:20251102T170000
DTSTAMP:20260421T203639
CREATED:20250828T191436Z
LAST-MODIFIED:20250828T191436Z
UID:10000607-1762092000-1762102800@screamseeker.com
SUMMARY:Paint & Sip: Day of the Dead Edition
DESCRIPTION:Join us at Walnut Springs Winery for a colorful night of creativity\, wine\, and celebration! We’ll be painting vibrant sugar skulls inspired by the Día de los Muertos tradition—perfect for beginners and seasoned artists alike.\n All paint supplies included Themed cocktails\, wine\, and wine slushes are available for purchase Food menu available\nCome sip\, paint\, and create a piece you’ll love—while enjoying a night out with friends. Costumes & festive attire encouraged!\nRefund Policy: Cancel 30+ days before the event for a full refund. Cancellations made within 30 days of the event will receive store credit.
URL:https://screamseeker.com/event/paint-sip-day-of-the-dead-edition/
LOCATION:Walnut Springs Winery\, 1175 Midway Rd\, Strawberry Plains\, TN\, 37871\, United States
CATEGORIES:Crafts,Entertainment,Food and Drink
ATTACH;FMTTYPE=image/jpeg:https://screamseeker.com/wp-content/uploads/2025/08/ScreamSeeker-Event-Photo-Template-7.jpg
ORGANIZER;CN="Walnut Springs Winery":MAILTO:sales@walnutspringstn.com
END:VEVENT
BEGIN:VEVENT
DTSTART;TZID=America/Kentucky/Louisville:20251025T173000
DTEND;TZID=America/Kentucky/Louisville:20251025T193000
DTSTAMP:20260421T203639
CREATED:20250829T221310Z
LAST-MODIFIED:20250829T221310Z
UID:10000615-1761413400-1761420600@screamseeker.com
SUMMARY:A Night of Pour Decisions Wine Maze
DESCRIPTION:  The Wine Maze is Here! \nGet ready to sip\, stroll\, and maybe get a little lost—in the best way.\nWe’ve taken your favorite fall activity and made it better… with WINE.\nWander through the maze with wine in hand as you discover 5 tasting stations tucked between the twists and turns. Each stop brings a new pour and a new vibe.\nYour ticket includes:\nEntry to the Wine Maze\n5 wine tastings along the route\nPhoto ops\, outdoor vibes\, and maybe a few surprises along the way\nWear your boots. Bring your besties. And don’t worry—there’s no wrong turn when wine is involved.\nLocated at Walnut Springs Winery\nOpening 9/27 | Select weekends this fall\nGet lost. Get lit. We’ll guide you to the wine.\n\n\nEvent Details:\nHeads up!  If it rains\, we’re bumping the fun to Sunday.\nPlease Note: The wine maze is not dog-friendly—thank you for understanding! \n Full refunds available if you cancel 30+ days out Less than 30 days? No worries — you’ll get store credit or can reschedule (if we’ve got room!)\n DD tickets are just $15 Arrive anytime between 4:45 and 5:30 Don’t forget your ID — must be 21+ to join the party!
URL:https://screamseeker.com/event/a-night-of-pour-decisions-wine-maze/2025-10-25/
LOCATION:Walnut Springs Winery\, 1175 Midway Rd\, Strawberry Plains\, TN\, 37871\, United States
CATEGORIES:Food and Drink,Interactive Entertainment
ATTACH;FMTTYPE=image/jpeg:https://screamseeker.com/wp-content/uploads/2025/08/ScreamSeeker-Event-Photo-Template-9.jpg
ORGANIZER;CN="Walnut Springs Winery":MAILTO:sales@walnutspringstn.com
END:VEVENT
BEGIN:VEVENT
DTSTART;TZID=America/Kentucky/Louisville:20251018T173000
DTEND;TZID=America/Kentucky/Louisville:20251018T193000
DTSTAMP:20260421T203639
CREATED:20250829T221310Z
LAST-MODIFIED:20250829T221310Z
UID:10000614-1760808600-1760815800@screamseeker.com
SUMMARY:A Night of Pour Decisions Wine Maze
DESCRIPTION:  The Wine Maze is Here! \nGet ready to sip\, stroll\, and maybe get a little lost—in the best way.\nWe’ve taken your favorite fall activity and made it better… with WINE.\nWander through the maze with wine in hand as you discover 5 tasting stations tucked between the twists and turns. Each stop brings a new pour and a new vibe.\nYour ticket includes:\nEntry to the Wine Maze\n5 wine tastings along the route\nPhoto ops\, outdoor vibes\, and maybe a few surprises along the way\nWear your boots. Bring your besties. And don’t worry—there’s no wrong turn when wine is involved.\nLocated at Walnut Springs Winery\nOpening 9/27 | Select weekends this fall\nGet lost. Get lit. We’ll guide you to the wine.\n\n\nEvent Details:\nHeads up!  If it rains\, we’re bumping the fun to Sunday.\nPlease Note: The wine maze is not dog-friendly—thank you for understanding! \n Full refunds available if you cancel 30+ days out Less than 30 days? No worries — you’ll get store credit or can reschedule (if we’ve got room!)\n DD tickets are just $15 Arrive anytime between 4:45 and 5:30 Don’t forget your ID — must be 21+ to join the party!
URL:https://screamseeker.com/event/a-night-of-pour-decisions-wine-maze/2025-10-18/
LOCATION:Walnut Springs Winery\, 1175 Midway Rd\, Strawberry Plains\, TN\, 37871\, United States
CATEGORIES:Food and Drink,Interactive Entertainment
ATTACH;FMTTYPE=image/jpeg:https://screamseeker.com/wp-content/uploads/2025/08/ScreamSeeker-Event-Photo-Template-9.jpg
ORGANIZER;CN="Walnut Springs Winery":MAILTO:sales@walnutspringstn.com
END:VEVENT
BEGIN:VEVENT
DTSTART;TZID=America/Kentucky/Louisville:20251011T173000
DTEND;TZID=America/Kentucky/Louisville:20251011T193000
DTSTAMP:20260421T203639
CREATED:20250829T221310Z
LAST-MODIFIED:20250829T221310Z
UID:10000613-1760203800-1760211000@screamseeker.com
SUMMARY:A Night of Pour Decisions Wine Maze
DESCRIPTION:  The Wine Maze is Here! \nGet ready to sip\, stroll\, and maybe get a little lost—in the best way.\nWe’ve taken your favorite fall activity and made it better… with WINE.\nWander through the maze with wine in hand as you discover 5 tasting stations tucked between the twists and turns. Each stop brings a new pour and a new vibe.\nYour ticket includes:\nEntry to the Wine Maze\n5 wine tastings along the route\nPhoto ops\, outdoor vibes\, and maybe a few surprises along the way\nWear your boots. Bring your besties. And don’t worry—there’s no wrong turn when wine is involved.\nLocated at Walnut Springs Winery\nOpening 9/27 | Select weekends this fall\nGet lost. Get lit. We’ll guide you to the wine.\n\n\nEvent Details:\nHeads up!  If it rains\, we’re bumping the fun to Sunday.\nPlease Note: The wine maze is not dog-friendly—thank you for understanding! \n Full refunds available if you cancel 30+ days out Less than 30 days? No worries — you’ll get store credit or can reschedule (if we’ve got room!)\n DD tickets are just $15 Arrive anytime between 4:45 and 5:30 Don’t forget your ID — must be 21+ to join the party!
URL:https://screamseeker.com/event/a-night-of-pour-decisions-wine-maze/2025-10-11/
LOCATION:Walnut Springs Winery\, 1175 Midway Rd\, Strawberry Plains\, TN\, 37871\, United States
CATEGORIES:Food and Drink,Interactive Entertainment
ATTACH;FMTTYPE=image/jpeg:https://screamseeker.com/wp-content/uploads/2025/08/ScreamSeeker-Event-Photo-Template-9.jpg
ORGANIZER;CN="Walnut Springs Winery":MAILTO:sales@walnutspringstn.com
END:VEVENT
BEGIN:VEVENT
DTSTART;TZID=America/Kentucky/Louisville:20251004T173000
DTEND;TZID=America/Kentucky/Louisville:20251004T193000
DTSTAMP:20260421T203639
CREATED:20250829T221310Z
LAST-MODIFIED:20250829T221310Z
UID:10000612-1759599000-1759606200@screamseeker.com
SUMMARY:A Night of Pour Decisions Wine Maze
DESCRIPTION:  The Wine Maze is Here! \nGet ready to sip\, stroll\, and maybe get a little lost—in the best way.\nWe’ve taken your favorite fall activity and made it better… with WINE.\nWander through the maze with wine in hand as you discover 5 tasting stations tucked between the twists and turns. Each stop brings a new pour and a new vibe.\nYour ticket includes:\nEntry to the Wine Maze\n5 wine tastings along the route\nPhoto ops\, outdoor vibes\, and maybe a few surprises along the way\nWear your boots. Bring your besties. And don’t worry—there’s no wrong turn when wine is involved.\nLocated at Walnut Springs Winery\nOpening 9/27 | Select weekends this fall\nGet lost. Get lit. We’ll guide you to the wine.\n\n\nEvent Details:\nHeads up!  If it rains\, we’re bumping the fun to Sunday.\nPlease Note: The wine maze is not dog-friendly—thank you for understanding! \n Full refunds available if you cancel 30+ days out Less than 30 days? No worries — you’ll get store credit or can reschedule (if we’ve got room!)\n DD tickets are just $15 Arrive anytime between 4:45 and 5:30 Don’t forget your ID — must be 21+ to join the party!
URL:https://screamseeker.com/event/a-night-of-pour-decisions-wine-maze/2025-10-04/
LOCATION:Walnut Springs Winery\, 1175 Midway Rd\, Strawberry Plains\, TN\, 37871\, United States
CATEGORIES:Food and Drink,Interactive Entertainment
ATTACH;FMTTYPE=image/jpeg:https://screamseeker.com/wp-content/uploads/2025/08/ScreamSeeker-Event-Photo-Template-9.jpg
ORGANIZER;CN="Walnut Springs Winery":MAILTO:sales@walnutspringstn.com
END:VEVENT
BEGIN:VEVENT
DTSTART;TZID=America/Kentucky/Louisville:20250927T173000
DTEND;TZID=America/Kentucky/Louisville:20250927T193000
DTSTAMP:20260421T203639
CREATED:20250829T221310Z
LAST-MODIFIED:20250829T221310Z
UID:10000611-1758994200-1759001400@screamseeker.com
SUMMARY:A Night of Pour Decisions Wine Maze
DESCRIPTION:  The Wine Maze is Here! \nGet ready to sip\, stroll\, and maybe get a little lost—in the best way.\nWe’ve taken your favorite fall activity and made it better… with WINE.\nWander through the maze with wine in hand as you discover 5 tasting stations tucked between the twists and turns. Each stop brings a new pour and a new vibe.\nYour ticket includes:\nEntry to the Wine Maze\n5 wine tastings along the route\nPhoto ops\, outdoor vibes\, and maybe a few surprises along the way\nWear your boots. Bring your besties. And don’t worry—there’s no wrong turn when wine is involved.\nLocated at Walnut Springs Winery\nOpening 9/27 | Select weekends this fall\nGet lost. Get lit. We’ll guide you to the wine.\n\n\nEvent Details:\nHeads up!  If it rains\, we’re bumping the fun to Sunday.\nPlease Note: The wine maze is not dog-friendly—thank you for understanding! \n Full refunds available if you cancel 30+ days out Less than 30 days? No worries — you’ll get store credit or can reschedule (if we’ve got room!)\n DD tickets are just $15 Arrive anytime between 4:45 and 5:30 Don’t forget your ID — must be 21+ to join the party!
URL:https://screamseeker.com/event/a-night-of-pour-decisions-wine-maze/2025-09-27/
LOCATION:Walnut Springs Winery\, 1175 Midway Rd\, Strawberry Plains\, TN\, 37871\, United States
CATEGORIES:Food and Drink,Interactive Entertainment
ATTACH;FMTTYPE=image/jpeg:https://screamseeker.com/wp-content/uploads/2025/08/ScreamSeeker-Event-Photo-Template-9.jpg
ORGANIZER;CN="Walnut Springs Winery":MAILTO:sales@walnutspringstn.com
END:VEVENT
BEGIN:VEVENT
DTSTART;TZID=America/Kentucky/Louisville:20250524T180000
DTEND;TZID=America/Kentucky/Louisville:20250524T203000
DTSTAMP:20260421T203639
CREATED:20250507T001609Z
LAST-MODIFIED:20250507T002818Z
UID:10000470-1748109600-1748118600@screamseeker.com
SUMMARY:Bridgerton Murder Mystery
DESCRIPTION:Step into the world of scandal\, mystery\, and romance at our Bridgerton & Jane Austen murder mystery dinner at the winery!  Join us for an unforgettable evening of sipping wine\, solving a murder\, and mingling with characters straight out of your favorite period dramas. Don your most elegant attire and prepare for an adventure like no other! Tickets are limited\, so grab yours now and immerse yourself in a night of intrigue and excitement.\nThis event is 21+\nNo refunds 48 hours before event date\nThis is a game\, so please come expecting to be a character\nDinner is included in your ticket purchase – please contact us prior to the event if you have any food allergies.
URL:https://screamseeker.com/event/briderton-murder-mystery/
LOCATION:Walnut Springs Winery\, 1175 Midway Rd\, Strawberry Plains\, TN\, 37871\, United States
CATEGORIES:Interactive Entertainment
ATTACH;FMTTYPE=image/jpeg:https://screamseeker.com/wp-content/uploads/2025/05/ScreamSeeker-Event-Photo-Template-2.jpg
END:VEVENT
END:VCALENDAR