BEGIN:VCALENDAR
VERSION:2.0
PRODID:-//Scream Seeker - ECPv6.15.20//NONSGML v1.0//EN
CALSCALE:GREGORIAN
METHOD:PUBLISH
X-ORIGINAL-URL:https://screamseeker.com
X-WR-CALDESC:Events for Scream Seeker
REFRESH-INTERVAL;VALUE=DURATION:PT1H
X-Robots-Tag:noindex
X-PUBLISHED-TTL:PT1H
BEGIN:VTIMEZONE
TZID:America/Kentucky/Louisville
BEGIN:DAYLIGHT
TZOFFSETFROM:-0500
TZOFFSETTO:-0400
TZNAME:EDT
DTSTART:20240310T070000
END:DAYLIGHT
BEGIN:STANDARD
TZOFFSETFROM:-0400
TZOFFSETTO:-0500
TZNAME:EST
DTSTART:20241103T060000
END:STANDARD
BEGIN:DAYLIGHT
TZOFFSETFROM:-0500
TZOFFSETTO:-0400
TZNAME:EDT
DTSTART:20250309T070000
END:DAYLIGHT
BEGIN:STANDARD
TZOFFSETFROM:-0400
TZOFFSETTO:-0500
TZNAME:EST
DTSTART:20251102T060000
END:STANDARD
BEGIN:DAYLIGHT
TZOFFSETFROM:-0500
TZOFFSETTO:-0400
TZNAME:EDT
DTSTART:20260308T070000
END:DAYLIGHT
BEGIN:STANDARD
TZOFFSETFROM:-0400
TZOFFSETTO:-0500
TZNAME:EST
DTSTART:20261101T060000
END:STANDARD
END:VTIMEZONE
BEGIN:VEVENT
DTSTART;TZID=America/Kentucky/Louisville:20250920T130000
DTEND;TZID=America/Kentucky/Louisville:20250920T150000
DTSTAMP:20260422T184322
CREATED:20250827T015829Z
LAST-MODIFIED:20250827T015829Z
UID:10000605-1758373200-1758380400@screamseeker.com
SUMMARY:Create a Ceramic Luminary at The Winery
DESCRIPTION:Learn how to sculpt a clay witch hat luminary while enjoying a glass of wine! Join us for a pottery class taught by potters from the pottery department of the Appalachian Arts and Craft Center in Clinton\, TN. Uncover the flickering shadows that will perfectly add to your fall and Halloween decorations.\nEach student will create a beautiful\, hand-crafted\, textured clay luminary\, perfect for Halloween. The luminary will be in the shape of a witch hat and decorated with spiders and all things spooky. Expert potters will lead you through each step of the process with hands-on instruction. They will guide you through the process of coming up with a design\, marking it out on your piece\, and using a blade to cut it out and then smooth it! Learn the basics of clay sculpting\, glazing and firing. The class is $40 and includes all materials\, including the glaze and firing. Appalachian Art Center Potters will finish the luminaries with glaze colors of your choice before returning them to The Winery for pick up.\nSeating is very limited and tickets need to be purchased in advance. Give us a call at (865)745-2902 or sign up through Eventbrite by following the ticket link. The clay will need to be glazed and fired before being returned to The Winery. You must return to The Winery at a later date to pick up your finished pieces.\nThe class will be held outside\, under our tent. This event is rain or shine. All materials\, instruction and a glass of wine are included in the ticket price. Tickets must be purchased in advance. Please bring a valid ID. Any participant under the age of 21 or without a valid ID is welcome but will receive a glass of grape juice during the class. Local meat and cheese trays and additional glasses of wine\, slushies\, and ciders are available for purchase during the class. Arrive early for a $4 wine tasting to try 8 of our wines and choose your favorites.
URL:https://screamseeker.com/event/create-a-ceramic-luminary-at-the-winery/
LOCATION:Winery at Seven Springs Farm\, 1474 Highway 61 E\, Maynardville\, TN\, 37807\, United States
ATTACH;FMTTYPE=image/jpeg:https://screamseeker.com/wp-content/uploads/2025/08/ScreamSeeker-Event-Photo-Template-5.jpg
END:VEVENT
END:VCALENDAR