BEGIN:VCALENDAR
VERSION:2.0
PRODID:-//Scream Seeker - ECPv6.15.20//NONSGML v1.0//EN
CALSCALE:GREGORIAN
METHOD:PUBLISH
X-WR-CALNAME:Scream Seeker
X-ORIGINAL-URL:https://screamseeker.com
X-WR-CALDESC:Events for Scream Seeker
REFRESH-INTERVAL;VALUE=DURATION:PT1H
X-Robots-Tag:noindex
X-PUBLISHED-TTL:PT1H
BEGIN:VTIMEZONE
TZID:America/Kentucky/Louisville
BEGIN:DAYLIGHT
TZOFFSETFROM:-0500
TZOFFSETTO:-0400
TZNAME:EDT
DTSTART:20240310T070000
END:DAYLIGHT
BEGIN:STANDARD
TZOFFSETFROM:-0400
TZOFFSETTO:-0500
TZNAME:EST
DTSTART:20241103T060000
END:STANDARD
BEGIN:DAYLIGHT
TZOFFSETFROM:-0500
TZOFFSETTO:-0400
TZNAME:EDT
DTSTART:20250309T070000
END:DAYLIGHT
BEGIN:STANDARD
TZOFFSETFROM:-0400
TZOFFSETTO:-0500
TZNAME:EST
DTSTART:20251102T060000
END:STANDARD
BEGIN:DAYLIGHT
TZOFFSETFROM:-0500
TZOFFSETTO:-0400
TZNAME:EDT
DTSTART:20260308T070000
END:DAYLIGHT
BEGIN:STANDARD
TZOFFSETFROM:-0400
TZOFFSETTO:-0500
TZNAME:EST
DTSTART:20261101T060000
END:STANDARD
END:VTIMEZONE
BEGIN:VEVENT
DTSTART;TZID=America/Kentucky/Louisville:20250701T190000
DTEND;TZID=America/Kentucky/Louisville:20250701T220000
DTSTAMP:20260422T183544
CREATED:20250626T164111Z
LAST-MODIFIED:20250626T164111Z
UID:10000601-1751396400-1751407200@screamseeker.com
SUMMARY:JAWS Themed Trivia
DESCRIPTION:Test your knowledge & enjoy a special JAWS-themed hosted by Not Rocket Science Trivia. Gift card prizes are awarded to the top teams! The Abridged Burger Truck will be on site all day\, so come hungry!
URL:https://screamseeker.com/event/jaws-themed-trivia/
LOCATION:XUL Downtown\, 213 E 5th Ave\, knoxville\, TN\, 37917\, United States
CATEGORIES:Food and Drink,Interactive Entertainment
ATTACH;FMTTYPE=image/jpeg:https://screamseeker.com/wp-content/uploads/2025/06/ScreamSeeker-Event-Photo-Template-3.jpg
ORGANIZER;CN="Not Rocket Since Triva":MAILTO:operations@notrocketsciencetrivia.com
END:VEVENT
END:VCALENDAR